BEGIN:VCALENDAR
VERSION:2.0
PRODID:-//Ikony Jazzu - ECPv6.2.8.2//NONSGML v1.0//EN
CALSCALE:GREGORIAN
METHOD:PUBLISH
X-WR-CALNAME:Ikony Jazzu
X-ORIGINAL-URL:https://ikonyjazzu.pl
X-WR-CALDESC:Wydarzenia dla Ikony Jazzu
REFRESH-INTERVAL;VALUE=DURATION:PT1H
X-Robots-Tag:noindex
X-PUBLISHED-TTL:PT1H
BEGIN:VTIMEZONE
TZID:UTC
BEGIN:STANDARD
TZOFFSETFROM:+0000
TZOFFSETTO:+0000
TZNAME:UTC
DTSTART:20240101T000000
END:STANDARD
END:VTIMEZONE
BEGIN:VEVENT
DTSTART;VALUE=DATE:20241126
DTEND;VALUE=DATE:20241127
DTSTAMP:20260422T042711
CREATED:20240123T132718Z
LAST-MODIFIED:20240209T080440Z
UID:26259-1732579200-1732665599@ikonyjazzu.pl
SUMMARY:Jan Garbarek Group feat Trilok Gurtu w Gdańsku
DESCRIPTION:Jeden z największych saksofonistów w historii muzyki jazzowej – Jan Garbarek powraca do Polski! Norweski muzyk wraz ze swoją supergrupą oraz jednym z najlepszych perkusistów świata Trilokiem Gurtu\, 25 listopada wystąpią w Filharmonii Narodowej w Warszawie\, a dzień później 26 listopada w Filharmonii Bałtyckiej w Gdańsku! \nKażdy koncert Jana Garbarka to wydarzenie\, które na długo pozostaje w pamięci. Jego muzyka oddycha i daje przestrzeń do oddychania. Ma proste\, a jednocześnie złożone brzmienie. Z jednej strony jest skomplikowana jak hymn\, a z drugiej oszczędna\, zabawna\, czasem też poważna\, pogrążona w zadumie\, a przy tym wyjątkowo otwarta. Nie da się dzisiaj mówić o jazzie\, nie wspominając osoby tego wybitnego saksofonisty. Fascynuje go twórczość ludowa i etniczna\, uwielbia muzyczne podróże w czasie i przestrzeni – to ubarwia jego muzykę\, ale także prowokuje do spotkań z artystami różnych kultur i stylistyk. Jego koncerty składają się w wielce organiczny styl\, budując jednocześnie rosnące napięcie. Jan Garbarek w Polsce pojawia się nad wyraz rzadko\, dlatego nieostrożnie byłoby ominąć jego listopadowe występy. \nNikt nie gra na saksofonie tak jak Jan Garbarek. Jego brzmienie stało się jego niewątpliwym znakiem firmowym\, które od pewnego już czasu przybiera inny wymiar\, niż to\, co jest powszechnie rozumiane jako jazz. Za sprawą niezliczonych nagrań\, koncertów w najważniejszych salach koncertowych na całym świecie\, wieloletniej współpracy z Keithem Jarrettem i bezprecedensowej współpracy z Hilliard Ensemble popularność tego wyjątkowego saksofonisty sięga przestrzeni wszystkich gatunków muzycznych oraz granic. W swoich kompozycjach i improwizacjach Jan Garbarek objawia się jako wirtuoz niewiarygodnie melodyjnej muzyki\, która wprost wdziera się w nasze dusze. Ekspansywna przestrzeń dźwiękowa rozciąga się od absolutnego ukojenia do ekspresywnej ekstazy\, promieniując zdumiewającym uczuciem spokoju\, które jednak nie pozwala na odrobinę nudy. 						\n				\n				\n				\n					\n			\n		\n				\n				\n				\n				\n			Kup Bilet		\n				\n					\n		\n					\n		\n				\n						\n					\n			\n						\n				\n							Zespół wystąpi w następującym składzie:						\n				\n				\n				\n							JAN GARBAREK – saxophonRAINER BRÜNINGHAUS – pianoYURI DANIEL – bassTRILOK GURTU – percussion 						\n				\n					\n		\n				\n			\n						\n				\n							Data:						\n				\n				\n				\n							Poniedziałek\, 26.11.2024 r. Godziny: Otwarcie drzwi 19:00\, początek koncertu godzina 20:00. 						\n				\n					\n		\n					\n		\n				\n						\n					\n			\n						\n				\n					\n			\n						\n		\n				\n				\n				\n				\n							Bilety:						\n				\n				\n				\n							Jan Garbarek w Gdańskuwww.facebook.com/events/233989393097881						\n				\n					\n		\n				\n			\n						\n				\n					\n			\n						\n		\n				\n				\n				\n				\n							Organizator:						\n				\n				\n				\n							Agencja PerspektywyKontakt: biuro@agencjaperspektywy.plwww.agencjaperspektywy.plRegulamin koncertu: https://agencjaperspektywy.pl/regulaminInstagram: https://www.instagram.com/ikony.jazzu/
URL:https://ikonyjazzu.pl/wydarzenie/jan-garbarek-group-feat-trilok-gurtu-w-gdansku/
LOCATION:Polska Filharmonia Bałtycka\, ul. Ołowianka 1\, Polska Filharmonia Bałtycka\, Gdańsk
CATEGORIES:Koncert
ATTACH;FMTTYPE=image/jpeg:https://ikonyjazzu.pl/wp-content/uploads/2024/01/Garbarek_1500x1200_12-copy.jpg
END:VEVENT
END:VCALENDAR